{
 "currentVersion": 10.81,
 "serviceDescription": "Services/Furgo2018BaseMap",
 "name": "Services/Furgo2018BaseMap",
 "description": "",
 "extent": {
  "xmin": 11305000,
  "ymin": 6725000,
  "xmax": 11340000,
  "ymax": 6760000,
  "spatialReference": {
   "wkt": "PROJCS[\"NAD_1983_HARN_StatePlane_Virginia_North_FIPS_4501_Feet\",GEOGCS[\"GCS_North_American_1983_HARN\",DATUM[\"D_NAD83_High_Accuracy_Reference_Network\",SPHEROID[\"GRS_1980\",6378137.0,298.257222101]],PRIMEM[\"Greenwich\",0.0],UNIT[\"Degree\",0.0174532925199433]],PROJECTION[\"Lambert_Conformal_Conic\"],PARAMETER[\"false_easting\",11482916.66666666],PARAMETER[\"false_northing\",6561666.666666666],PARAMETER[\"central_meridian\",-78.5],PARAMETER[\"standard_parallel_1\",38.03333333333333],PARAMETER[\"standard_parallel_2\",39.2],PARAMETER[\"latitude_of_origin\",37.66666666666666],UNIT[\"Foot_US\",0.3048006096012192]]"
  }
 },
 "initialExtent": {
  "xmin": 11305000,
  "ymin": 6725000,
  "xmax": 11340000,
  "ymax": 6760000,
  "spatialReference": {
   "wkt": "PROJCS[\"NAD_1983_HARN_StatePlane_Virginia_North_FIPS_4501_Feet\",GEOGCS[\"GCS_North_American_1983_HARN\",DATUM[\"D_NAD83_High_Accuracy_Reference_Network\",SPHEROID[\"GRS_1980\",6378137.0,298.257222101]],PRIMEM[\"Greenwich\",0.0],UNIT[\"Degree\",0.0174532925199433]],PROJECTION[\"Lambert_Conformal_Conic\"],PARAMETER[\"false_easting\",11482916.66666666],PARAMETER[\"false_northing\",6561666.666666666],PARAMETER[\"central_meridian\",-78.5],PARAMETER[\"standard_parallel_1\",38.03333333333333],PARAMETER[\"standard_parallel_2\",39.2],PARAMETER[\"latitude_of_origin\",37.66666666666666],UNIT[\"Foot_US\",0.3048006096012192]]"
  }
 },
 "fullExtent": {
  "xmin": 11305000,
  "ymin": 6725000,
  "xmax": 11340000,
  "ymax": 6760000,
  "spatialReference": {
   "wkt": "PROJCS[\"NAD_1983_HARN_StatePlane_Virginia_North_FIPS_4501_Feet\",GEOGCS[\"GCS_North_American_1983_HARN\",DATUM[\"D_NAD83_High_Accuracy_Reference_Network\",SPHEROID[\"GRS_1980\",6378137.0,298.257222101]],PRIMEM[\"Greenwich\",0.0],UNIT[\"Degree\",0.0174532925199433]],PROJECTION[\"Lambert_Conformal_Conic\"],PARAMETER[\"false_easting\",11482916.66666666],PARAMETER[\"false_northing\",6561666.666666666],PARAMETER[\"central_meridian\",-78.5],PARAMETER[\"standard_parallel_1\",38.03333333333333],PARAMETER[\"standard_parallel_2\",39.2],PARAMETER[\"latitude_of_origin\",37.66666666666666],UNIT[\"Foot_US\",0.3048006096012192]]"
  }
 },
 "pixelSizeX": 0.25,
 "pixelSizeY": 0.25,
 "bandCount": 3,
 "pixelType": "U8",
 "minPixelSize": 0,
 "maxPixelSize": 0,
 "copyrightText": "",
 "serviceDataType": "esriImageServiceDataTypeRGB",
 "minValues": [
  0,
  0,
  0
 ],
 "maxValues": [
  255,
  255,
  255
 ],
 "meanValues": [
  74.999443364069,
  76.068527028652,
  62.428872911341
 ],
 "stdvValues": [
  50.527404311658,
  48.550956124294,
  41.62066306837
 ],
 "objectIdField": "",
 "fields": [],
 "capabilities": "Image,Metadata,Mensuration",
 "defaultMosaicMethod": "Center",
 "allowedMosaicMethods": "",
 "sortField": "",
 "sortValue": null,
 "sortAscending": true,
 "mosaicOperator": "First",
 "defaultCompressionQuality": 75,
 "defaultResamplingMethod": "Bilinear",
 "maxImageHeight": 4100,
 "maxImageWidth": 15000,
 "allowRasterFunction": true,
 "rasterFunctionInfos": [
  {
   "name": "None",
   "description": "",
   "help": ""
  }
 ],
 "rasterTypeInfos": [
  {
   "name": "Raster Dataset",
   "description": "Supports all ArcGIS Raster Datasets",
   "help": ""
  }
 ],
 "mensurationCapabilities": "Basic",
 "hasHistograms": true,
 "hasColormap": false,
 "hasRasterAttributeTable": false,
 "minScale": 0,
 "maxScale": 0,
 "exportTilesAllowed": false,
 "hasMultidimensions": false,
 "supportsStatistics": false,
 "supportsAdvancedQueries": false,
 "editFieldsInfo": null,
 "ownershipBasedAccessControlForRasters": null,
 "allowComputeTiePoints": false,
 "useStandardizedQueries": true,
 "advancedQueryCapabilities": {
  "useStandardizedQueries": true,
  "supportsStatistics": false,
  "supportsOrderBy": false,
  "supportsDistinct": false,
  "supportsPagination": false
 },
 "spatialReference": {
  "wkt": "PROJCS[\"NAD_1983_HARN_StatePlane_Virginia_North_FIPS_4501_Feet\",GEOGCS[\"GCS_North_American_1983_HARN\",DATUM[\"D_NAD83_High_Accuracy_Reference_Network\",SPHEROID[\"GRS_1980\",6378137.0,298.257222101]],PRIMEM[\"Greenwich\",0.0],UNIT[\"Degree\",0.0174532925199433]],PROJECTION[\"Lambert_Conformal_Conic\"],PARAMETER[\"false_easting\",11482916.66666666],PARAMETER[\"false_northing\",6561666.666666666],PARAMETER[\"central_meridian\",-78.5],PARAMETER[\"standard_parallel_1\",38.03333333333333],PARAMETER[\"standard_parallel_2\",39.2],PARAMETER[\"latitude_of_origin\",37.66666666666666],UNIT[\"Foot_US\",0.3048006096012192]]"
 }
}
