{
 "currentVersion": 10.81,
 "serviceDescription": "Services/DigitalElevationModel",
 "name": "Services/DigitalElevationModel",
 "description": "",
 "extent": {
  "xmin": 1.1179991797987483E7,
  "ymin": 6634991.79819759,
  "xmax": 1.1415011905987483E7,
  "ymax": 6860005.4661975885,
  "spatialReference": {
   "wkid": 102746,
   "latestWkid": 2283
  }
 },
 "initialExtent": {
  "xmin": 1.1179991797987483E7,
  "ymin": 6634991.79819759,
  "xmax": 1.1415011905987483E7,
  "ymax": 6860005.4661975885,
  "spatialReference": {
   "wkid": 102746,
   "latestWkid": 2283
  }
 },
 "fullExtent": {
  "xmin": 1.1179991797987483E7,
  "ymin": 6634991.79819759,
  "xmax": 1.1415011905987483E7,
  "ymax": 6860005.4661975885,
  "spatialReference": {
   "wkid": 102746,
   "latestWkid": 2283
  }
 },
 "pixelSizeX": 16.403999999999936,
 "pixelSizeY": 16.403999999999904,
 "bandCount": 1,
 "pixelType": "F32",
 "minPixelSize": 0,
 "maxPixelSize": 0,
 "copyrightText": "",
 "serviceDataType": "esriImageServiceDataTypeGeneric",
 "minValues": [
  862.34814453125
 ],
 "maxValues": [
  4467.66259765625
 ],
 "meanValues": [
  1907.928123356289
 ],
 "stdvValues": [
  609.6591404449897
 ],
 "objectIdField": "",
 "fields": [],
 "capabilities": "Image,Metadata,Mensuration",
 "defaultMosaicMethod": "Center",
 "allowedMosaicMethods": "",
 "sortField": "",
 "sortValue": null,
 "sortAscending": true,
 "mosaicOperator": "First",
 "defaultCompressionQuality": 75,
 "defaultResamplingMethod": "Bilinear",
 "maxImageHeight": 4100,
 "maxImageWidth": 15000,
 "allowRasterFunction": true,
 "rasterFunctionInfos": [
  {
   "name": "None",
   "description": "",
   "help": ""
  }
 ],
 "rasterTypeInfos": [
  {
   "name": "Raster Dataset",
   "description": "Supports all ArcGIS Raster Datasets",
   "help": ""
  }
 ],
 "mensurationCapabilities": "Basic",
 "hasHistograms": true,
 "hasColormap": false,
 "hasRasterAttributeTable": false,
 "minScale": 0,
 "maxScale": 0,
 "exportTilesAllowed": false,
 "hasMultidimensions": false,
 "supportsStatistics": false,
 "supportsAdvancedQueries": false,
 "editFieldsInfo": null,
 "ownershipBasedAccessControlForRasters": null,
 "allowComputeTiePoints": false,
 "useStandardizedQueries": true,
 "advancedQueryCapabilities": {
  "useStandardizedQueries": true,
  "supportsStatistics": false,
  "supportsOrderBy": false,
  "supportsDistinct": false,
  "supportsPagination": false
 },
 "spatialReference": {
  "wkid": 102746,
  "latestWkid": 2283
 }
}
