View In:
ArcGIS JavaScript
ArcGIS Online Map Viewer
ArcGIS Earth
ArcMap
View Footprint In:
ArcGIS Online Map Viewer
Service Description: Services/DigitalElevationModel
Name: Services/DigitalElevationModel
Description:
Single Fused Map Cache: false
Extent:
XMin: 1.1179991797987483E7
YMin: 6634991.79819759
XMax: 1.1415011905987483E7
YMax: 6860005.4661975885
Spatial Reference: 102746
(2283)
Initial Extent:
XMin: 1.1179991797987483E7
YMin: 6634991.79819759
XMax: 1.1415011905987483E7
YMax: 6860005.4661975885
Spatial Reference: 102746
(2283)
Full Extent:
XMin: 1.1179991797987483E7
YMin: 6634991.79819759
XMax: 1.1415011905987483E7
YMax: 6860005.4661975885
Spatial Reference: 102746
(2283)
Pixel Size X: 16.403999999999936
Pixel Size Y: 16.403999999999904
Band Count: 1
Pixel Type: F32
RasterFunction Infos: {"rasterFunctionInfos": [{
"name": "None",
"description": "",
"help": ""
}]}
Mensuration Capabilities: Basic
Has Histograms: true
Has Colormap: false
Has Multi Dimensions : false
Rendering Rule:
Min Scale: 0
Max Scale: 0
Copyright Text:
Service Data Type: esriImageServiceDataTypeGeneric
Min Values: 862.34814453125
Max Values: 4467.66259765625
Mean Values: 1907.928123356289
Standard Deviation Values: 609.6591404449897
Object ID Field:
Fields:
None
Default Mosaic Method: Center
Allowed Mosaic Methods:
SortField:
SortValue: null
Mosaic Operator: First
Default Compression Quality: 75
Default Resampling Method: Bilinear
Max Record Count: null
Max Image Height: 4100
Max Image Width: 15000
Max Download Image Count: null
Max Mosaic Image Count: null
Allow Raster Function: true
Allow Copy: null
Allow Analysis: null
Allow Compute TiePoints: false
Supports Statistics: false
Supports Advanced Queries: false
Use StandardizedQueries: true
Raster Type Infos:
Name: Raster Dataset
Description: Supports all ArcGIS Raster Datasets
Help:
Has Raster Attribute Table: false
Edit Fields Info: null
Ownership Based AccessControl For Rasters: null
Child Resources:
Info
Histograms
Key Properties
Legend
Raster Function Infos
Supported Operations:
Export Image
Identify
Measure
Compute Histograms
Compute Statistics Histograms
Get Samples
Compute Class Statistics
Query Boundary
Compute Pixel Location
Validate
Project