View In:
ArcGIS JavaScript
ArcGIS Online Map Viewer
ArcGIS Earth
ArcMap
View Footprint In:
ArcGIS Online Map Viewer
Service Description: Services/2022_Mosaic
Name: Services/2022_Mosaic
Description:
Single Fused Map Cache: false
Extent:
XMin: 11305000
YMin: 6687500
XMax: 11400000
YMax: 6761250
Spatial Reference: PROJCS["NAD_1983_StatePlane_Virginia_North_FIPS_4501_Feet",GEOGCS["GCS_North_American_1983",DATUM["D_North_American_1983",SPHEROID["GRS_1980",6378137.0,298.257222101]],PRIMEM["Greenwich",0.0],UNIT["Degree",0.0174532925199433]],PROJECTION["Lambert_Conformal_Conic"],PARAMETER["false_easting",11482916.667],PARAMETER["false_northing",6561666.667],PARAMETER["central_meridian",-78.5],PARAMETER["standard_parallel_1",38.03333333333333],PARAMETER["standard_parallel_2",39.2],PARAMETER["latitude_of_origin",37.66666666666666],UNIT["Foot_US",0.3048006096012192]]
Initial Extent:
XMin: 11305000
YMin: 6687500
XMax: 11400000
YMax: 6761250
Spatial Reference: PROJCS["NAD_1983_StatePlane_Virginia_North_FIPS_4501_Feet",GEOGCS["GCS_North_American_1983",DATUM["D_North_American_1983",SPHEROID["GRS_1980",6378137.0,298.257222101]],PRIMEM["Greenwich",0.0],UNIT["Degree",0.0174532925199433]],PROJECTION["Lambert_Conformal_Conic"],PARAMETER["false_easting",11482916.667],PARAMETER["false_northing",6561666.667],PARAMETER["central_meridian",-78.5],PARAMETER["standard_parallel_1",38.03333333333333],PARAMETER["standard_parallel_2",39.2],PARAMETER["latitude_of_origin",37.66666666666666],UNIT["Foot_US",0.3048006096012192]]
Full Extent:
XMin: 11305000
YMin: 6687500
XMax: 11400000
YMax: 6761250
Spatial Reference: PROJCS["NAD_1983_StatePlane_Virginia_North_FIPS_4501_Feet",GEOGCS["GCS_North_American_1983",DATUM["D_North_American_1983",SPHEROID["GRS_1980",6378137.0,298.257222101]],PRIMEM["Greenwich",0.0],UNIT["Degree",0.0174532925199433]],PROJECTION["Lambert_Conformal_Conic"],PARAMETER["false_easting",11482916.667],PARAMETER["false_northing",6561666.667],PARAMETER["central_meridian",-78.5],PARAMETER["standard_parallel_1",38.03333333333333],PARAMETER["standard_parallel_2",39.2],PARAMETER["latitude_of_origin",37.66666666666666],UNIT["Foot_US",0.3048006096012192]]
Pixel Size X: 0.25
Pixel Size Y: 0.25
Band Count: 3
Pixel Type: U8
RasterFunction Infos: {"rasterFunctionInfos": [{
"name": "None",
"description": "",
"help": ""
}]}
Mensuration Capabilities: Basic
Has Histograms: true
Has Colormap: false
Has Multi Dimensions : false
Rendering Rule:
Min Scale: 0
Max Scale: 0
Copyright Text:
Service Data Type: esriImageServiceDataTypeRGB
Min Values: 0, 5, 0
Max Values: 255, 255, 255
Mean Values: 198.34261305052, 195.14125791722, 187.28236853734
Standard Deviation Values: 70.571424674321, 74.065450123502, 82.422382060893
Object ID Field:
Fields:
None
Default Mosaic Method: Center
Allowed Mosaic Methods:
SortField:
SortValue: null
Mosaic Operator: First
Default Compression Quality: 75
Default Resampling Method: Bilinear
Max Record Count: null
Max Image Height: 4100
Max Image Width: 15000
Max Download Image Count: null
Max Mosaic Image Count: null
Allow Raster Function: true
Allow Copy: null
Allow Analysis: null
Allow Compute TiePoints: false
Supports Statistics: false
Supports Advanced Queries: false
Use StandardizedQueries: true
Raster Type Infos:
Name: Raster Dataset
Description: Supports all ArcGIS Raster Datasets
Help:
Has Raster Attribute Table: false
Edit Fields Info: null
Ownership Based AccessControl For Rasters: null
Child Resources:
Info
Histograms
Key Properties
Legend
Raster Function Infos
Supported Operations:
Export Image
Identify
Measure
Compute Histograms
Compute Statistics Histograms
Get Samples
Compute Class Statistics
Query Boundary
Compute Pixel Location
Validate
Project